BEGIN:VCALENDAR
VERSION:2.0
PRODID:-//wmmi.org//NONSGML kigkonsult.se iCalcreator 2.30.10//
CALSCALE:GREGORIAN
METHOD:PUBLISH
UID:bdc8f194-cc67-4762-a123-c6083d7fa3e4
X-WR-CALDESC:
X-WR-RELCALID:e24e521b15a657f0289bf4e2d90681d6
X-WR-TIMEZONE:America/Denver
BEGIN:VTIMEZONE
TZID:America/Denver
BEGIN:STANDARD
TZNAME:MST
DTSTART:20241103T020000
TZOFFSETFROM:-0600
TZOFFSETTO:-0700
RDATE:20251102T020000
RDATE:20261101T020000
END:STANDARD
BEGIN:DAYLIGHT
TZNAME:MDT
DTSTART:20250309T020000
TZOFFSETFROM:-0700
TZOFFSETTO:-0600
RDATE:20260308T020000
END:DAYLIGHT
END:VTIMEZONE
BEGIN:VEVENT
UID:f1c27d55-f4b4-4f06-91e3-4365c7a1b593
DTSTAMP:20260422T121340Z
DESCRIPTION:
DTSTART;TZID=America/Denver:20250610T160000
DTEND;TZID=America/Denver:20250610T170000
LOCATION:225 N Gate Blvd\, Colorado Springs\, CO 80921 US
SUMMARY:Lecture - Larry Frank\, Colorado Great Depression Gold Rush
END:VEVENT
END:VCALENDAR
