BEGIN:VCALENDAR
VERSION:2.0
PRODID:-//wmmi.org//NONSGML kigkonsult.se iCalcreator 2.30.10//
CALSCALE:GREGORIAN
METHOD:PUBLISH
UID:d20bee3e-6d1f-4129-8789-f5aefe5f6ab6
X-WR-CALDESC:Sketch Hunters Class \nInstructor Jana L. Bussanich\, Yellow C
 ouch Creative\nJoin us for an inspiring outdoor sketching adventure at the
  Western Museum of Mining & Industry! In this 90-minute class\, participan
 ts will use special prompt cards to spark creativity and sketch the fascin
 ating sights around the museum’s property. Perfect for families and school
 -aged children\, this hands-on experience encourages observation\, imagina
 tion\, and artistic expression. All materials are included—no prior art ex
 perience is needed!\n\nDate: Wednesday\, May 14\, 2025\nSessions: 10:30 AM
 –12:00 PM or 1:00 PM–2:30 PM\nPrice: $15 per person\n(6 and under free wit
 h participating adult or sibling over 13)\nChildren under 13 must be accom
 panied by a participating adult responsible for their safety and behavior.
X-WR-RELCALID:a8b66d4e00e565308a6353be9362de47
X-WR-TIMEZONE:America/Denver
BEGIN:VTIMEZONE
TZID:America/Denver
BEGIN:STANDARD
TZNAME:MST
DTSTART:20241103T020000
TZOFFSETFROM:-0600
TZOFFSETTO:-0700
RDATE:20251102T020000
RDATE:20261101T020000
END:STANDARD
BEGIN:DAYLIGHT
TZNAME:MDT
DTSTART:20250309T020000
TZOFFSETFROM:-0700
TZOFFSETTO:-0600
RDATE:20260308T020000
END:DAYLIGHT
END:VTIMEZONE
BEGIN:VEVENT
UID:99dd7829-dc78-4634-95f3-3edcbc477fdb
DTSTAMP:20260422T090749Z
DESCRIPTION:Sketch Hunters Class \nInstructor Jana L. Bussanich\, Yellow Co
 uch Creative\nJoin us for an inspiring outdoor sketching adventure at the 
 Western Museum of Mining & Industry! In this 90-minute class\, participant
 s will use special prompt cards to spark creativity and sketch the fascina
 ting sights around the museum’s property. Perfect for families and school-
 aged children\, this hands-on experience encourages observation\, imaginat
 ion\, and artistic expression. All materials are included—no prior art exp
 erience is needed!\n\nDate: Wednesday\, May 14\, 2025\nSessions: 10:30 AM–
 12:00 PM or 1:00 PM–2:30 PM\nPrice: $15 per person\n(6 and under free with
  participating adult or sibling over 13)\nChildren under 13 must be accomp
 anied by a participating adult responsible for their safety and behavior.
DTSTART;TZID=America/Denver:20250514T130000
DTEND;TZID=America/Denver:20250514T143000
LOCATION:225 N Gate Blvd\, Colorado Springs\, CO 80921 US
SUMMARY:Sketch Hunters Class
END:VEVENT
END:VCALENDAR
