BEGIN:VCALENDAR
VERSION:2.0
PRODID:-//wmmi.org//NONSGML kigkonsult.se iCalcreator 2.30.10//
CALSCALE:GREGORIAN
METHOD:PUBLISH
UID:43c84afa-b354-46e4-91fc-7abbeda68329
X-WR-CALDESC:
X-WR-RELCALID:f12e6ad96cd65da9e728d159fc15922d
X-WR-TIMEZONE:America/Denver
BEGIN:VTIMEZONE
TZID:America/Denver
BEGIN:STANDARD
TZNAME:MST
DTSTART:20241103T020000
TZOFFSETFROM:-0600
TZOFFSETTO:-0700
RDATE:20251102T020000
RDATE:20261101T020000
END:STANDARD
BEGIN:DAYLIGHT
TZNAME:MDT
DTSTART:20250309T020000
TZOFFSETFROM:-0700
TZOFFSETTO:-0600
RDATE:20260308T020000
END:DAYLIGHT
END:VTIMEZONE
BEGIN:VEVENT
UID:def4e326-4cb6-4d50-afb3-a85c9fe2c917
DTSTAMP:20260424T093621Z
DESCRIPTION:
DTSTART;TZID=America/Denver:20250513T160000
DTEND;TZID=America/Denver:20250513T170000
LOCATION:225 N Gate Blvd\, Colorado Springs\, CO 80921 US
SUMMARY:Lecture - Jerald Schnabel\, Pikeview Quarry
END:VEVENT
END:VCALENDAR
