BEGIN:VCALENDAR
VERSION:2.0
PRODID:-//wmmi.org//NONSGML kigkonsult.se iCalcreator 2.30.10//
CALSCALE:GREGORIAN
METHOD:PUBLISH
UID:4c286652-70c1-45ee-b7da-85eeb6238cdd
X-WR-CALDESC:Join us on April 8th for the next guest lecture in our series.
  Hear from Martin Ditkoff as he discusses his experience with asbestos-rel
 ated illness and uncovers the deep history of this miracle mineral turned 
 harmful construction material.
X-WR-RELCALID:a0b5eb1238966de76c4765498472412a
X-WR-TIMEZONE:America/Denver
BEGIN:VTIMEZONE
TZID:America/Denver
BEGIN:STANDARD
TZNAME:MST
DTSTART:20241103T020000
TZOFFSETFROM:-0600
TZOFFSETTO:-0700
RDATE:20251102T020000
END:STANDARD
BEGIN:DAYLIGHT
TZNAME:MDT
DTSTART:20250309T020000
TZOFFSETFROM:-0700
TZOFFSETTO:-0600
RDATE:20260308T020000
END:DAYLIGHT
END:VTIMEZONE
BEGIN:VEVENT
UID:a1c7b319-3271-4386-95a5-17bdd30cec1b
DTSTAMP:20260422T073211Z
DESCRIPTION:Join us on April 8th for the next guest lecture in our series. 
 Hear from Martin Ditkoff as he discusses his experience with asbestos-rela
 ted illness and uncovers the deep history of this miracle mineral turned h
 armful construction material.
DTSTART;TZID=America/Denver:20250408T160000
DTEND;TZID=America/Denver:20250408T170000
LOCATION:225 N Gate Blvd\, Colorado Springs\, CO 80921 US
SUMMARY:Lecture - Martin Ditkof\, Asbestos
END:VEVENT
END:VCALENDAR
