BEGIN:VCALENDAR
VERSION:2.0
PRODID:-//wmmi.org//NONSGML kigkonsult.se iCalcreator 2.30.10//
CALSCALE:GREGORIAN
METHOD:PUBLISH
UID:4538ec99-3033-42ba-8be9-d0a801a07764
X-WR-CALDESC:
X-WR-RELCALID:43a6867e5baeeaf7b9d4a10823e9d0e6
X-WR-TIMEZONE:America/Denver
BEGIN:VTIMEZONE
TZID:America/Denver
BEGIN:STANDARD
TZNAME:MST
DTSTART:20241103T020000
TZOFFSETFROM:-0600
TZOFFSETTO:-0700
RDATE:20251102T020000
END:STANDARD
BEGIN:DAYLIGHT
TZNAME:MDT
DTSTART:20240310T020000
TZOFFSETFROM:-0700
TZOFFSETTO:-0600
RDATE:20250309T020000
RDATE:20260308T020000
END:DAYLIGHT
END:VTIMEZONE
BEGIN:VEVENT
UID:5bab1343-5bb7-45da-bea1-522a42a63dbd
DTSTAMP:20260422T012719Z
DESCRIPTION:
DTSTART;TZID=America/Denver:20241225T040000
DTEND;TZID=America/Denver:20241225T040001
LOCATION:
SUMMARY:Christmas: Museum is Closed
END:VEVENT
END:VCALENDAR
