BEGIN:VCALENDAR
VERSION:2.0
PRODID:-//wmmi.org//NONSGML kigkonsult.se iCalcreator 2.30.10//
CALSCALE:GREGORIAN
METHOD:PUBLISH
UID:2fe3416e-68b7-4ff7-9b3c-d8de3a26f59a
X-WR-CALDESC:
X-WR-RELCALID:dfb68b2d5037e38b212a189a5855f4b0
X-WR-TIMEZONE:America/Denver
BEGIN:VTIMEZONE
TZID:America/Denver
BEGIN:STANDARD
TZNAME:MST
DTSTART:20241103T020000
TZOFFSETFROM:-0600
TZOFFSETTO:-0700
RDATE:20251102T020000
END:STANDARD
BEGIN:DAYLIGHT
TZNAME:MDT
DTSTART:20240310T020000
TZOFFSETFROM:-0700
TZOFFSETTO:-0600
RDATE:20250309T020000
RDATE:20260308T020000
END:DAYLIGHT
END:VTIMEZONE
BEGIN:VEVENT
UID:ee9944a0-c15a-451e-a541-50aca874fcd4
DTSTAMP:20260421T081812Z
DESCRIPTION:
DTSTART;TZID=America/Denver:20241128T040000
DTEND;TZID=America/Denver:20241128T040001
LOCATION:
SUMMARY:Thanksgiving: Museum is Closed
END:VEVENT
END:VCALENDAR
