BEGIN:VCALENDAR
VERSION:2.0
PRODID:-//wmmi.org//NONSGML kigkonsult.se iCalcreator 2.30.10//
CALSCALE:GREGORIAN
METHOD:PUBLISH
UID:1d10823e-83f5-452a-8f08-b3e5b81f96a2
X-WR-CALDESC:The museum will close at 2:00pm for Thanksgiving
X-WR-RELCALID:6db56b3766b1f777bfd287f8759aa1d8
X-WR-TIMEZONE:America/Denver
BEGIN:VTIMEZONE
TZID:America/Denver
BEGIN:STANDARD
TZNAME:MST
DTSTART:20241103T020000
TZOFFSETFROM:-0600
TZOFFSETTO:-0700
RDATE:20251102T020000
END:STANDARD
BEGIN:DAYLIGHT
TZNAME:MDT
DTSTART:20240310T020000
TZOFFSETFROM:-0700
TZOFFSETTO:-0600
RDATE:20250309T020000
RDATE:20260308T020000
END:DAYLIGHT
END:VTIMEZONE
BEGIN:VEVENT
UID:31861185-28a1-4652-bbcb-87114c9169c0
DTSTAMP:20260421T235940Z
DESCRIPTION:The museum will close at 2:00pm for Thanksgiving
DTSTART;TZID=America/Denver:20241127T040000
DTEND;TZID=America/Denver:20241127T040001
LOCATION:
SUMMARY:Museum Closes at 2:00pm
END:VEVENT
END:VCALENDAR
