BEGIN:VCALENDAR
VERSION:2.0
PRODID:-//wmmi.org//NONSGML kigkonsult.se iCalcreator 2.30.10//
CALSCALE:GREGORIAN
METHOD:PUBLISH
UID:04a58a13-c7d4-4824-9a5b-6ac06215a254
X-WR-CALDESC:
X-WR-RELCALID:f261c29e76cfc22d4576df4703cc0037
X-WR-TIMEZONE:America/Denver
BEGIN:VTIMEZONE
TZID:America/Denver
BEGIN:STANDARD
TZNAME:MST
DTSTART:20241103T020000
TZOFFSETFROM:-0600
TZOFFSETTO:-0700
RDATE:20251102T020000
END:STANDARD
BEGIN:DAYLIGHT
TZNAME:MDT
DTSTART:20240310T020000
TZOFFSETFROM:-0700
TZOFFSETTO:-0600
RDATE:20250309T020000
RDATE:20260308T020000
END:DAYLIGHT
END:VTIMEZONE
BEGIN:VEVENT
UID:2b152dbf-e718-4978-bc7e-79a2bf63bb14
DTSTAMP:20260422T001241Z
DESCRIPTION:
DTSTART;TZID=America/Denver:20241112T160000
DTEND;TZID=America/Denver:20241112T170000
LOCATION:225 N Gate Blvd\, Colorado Springs\, CO 80921 US
SUMMARY:Lecture Series: Keith Fessenden\, 'The Western Stock Show'
END:VEVENT
END:VCALENDAR
