BEGIN:VCALENDAR
VERSION:2.0
PRODID:-//wmmi.org//NONSGML kigkonsult.se iCalcreator 2.30.10//
CALSCALE:GREGORIAN
METHOD:PUBLISH
UID:551d71eb-b248-442a-a915-bea170d91739
X-WR-CALDESC:
X-WR-RELCALID:66096be65eeeb0d67b588d94de323294
X-WR-TIMEZONE:America/Denver
BEGIN:VTIMEZONE
TZID:America/Denver
BEGIN:STANDARD
TZNAME:MST
DTSTART:20231105T020000
TZOFFSETFROM:-0600
TZOFFSETTO:-0700
RDATE:20241103T020000
RDATE:20251102T020000
END:STANDARD
BEGIN:DAYLIGHT
TZNAME:MDT
DTSTART:20240310T020000
TZOFFSETFROM:-0700
TZOFFSETTO:-0600
RDATE:20250309T020000
RDATE:20260308T020000
END:DAYLIGHT
END:VTIMEZONE
BEGIN:VEVENT
UID:d06afaf9-814b-4728-9d6a-10240fbc3f1a
DTSTAMP:20260421T223856Z
DESCRIPTION:
DTSTART;TZID=America/Denver:20241026T090000
DTEND;TZID=America/Denver:20241026T160000
LOCATION:225 N Gate Blvd\, Colorado Springs\, CO 80921 US
SUMMARY:Miners' Pumpkin Patch
END:VEVENT
END:VCALENDAR
