BEGIN:VCALENDAR
VERSION:2.0
PRODID:-//wmmi.org//NONSGML kigkonsult.se iCalcreator 2.30.10//
CALSCALE:GREGORIAN
METHOD:PUBLISH
UID:27e903ea-9571-419d-8471-67474be29bd4
X-WR-CALDESC:
X-WR-RELCALID:cf0db8b70b04b358ca2bc327f78fe91b
X-WR-TIMEZONE:America/Denver
BEGIN:VTIMEZONE
TZID:America/Denver
BEGIN:STANDARD
TZNAME:MST
DTSTART:20231105T020000
TZOFFSETFROM:-0600
TZOFFSETTO:-0700
RDATE:20241103T020000
RDATE:20251102T020000
END:STANDARD
BEGIN:DAYLIGHT
TZNAME:MDT
DTSTART:20240310T020000
TZOFFSETFROM:-0700
TZOFFSETTO:-0600
RDATE:20250309T020000
RDATE:20260308T020000
END:DAYLIGHT
END:VTIMEZONE
BEGIN:VEVENT
UID:c908cabe-6481-465a-aa52-c83ee1919a14
DTSTAMP:20260421T223738Z
DESCRIPTION:
DTSTART;TZID=America/Denver:20241012T090000
DTEND;TZID=America/Denver:20241012T160000
LOCATION:225 N Gate Blvd\, Colorado Springs\, CO 80921 US
SUMMARY:Miners' Pumpkin Patch
END:VEVENT
END:VCALENDAR
