BEGIN:VCALENDAR
VERSION:2.0
PRODID:-//wmmi.org//NONSGML kigkonsult.se iCalcreator 2.30.10//
CALSCALE:GREGORIAN
METHOD:PUBLISH
UID:2b7e5238-e9cc-4c28-9b95-729d6d7d2559
X-WR-CALDESC:
X-WR-RELCALID:1861e777b6ed246362b5426d6dbf270e
X-WR-TIMEZONE:America/Denver
BEGIN:VTIMEZONE
TZID:America/Denver
BEGIN:STANDARD
TZNAME:MST
DTSTART:20231105T020000
TZOFFSETFROM:-0600
TZOFFSETTO:-0700
RDATE:20241103T020000
RDATE:20251102T020000
END:STANDARD
BEGIN:DAYLIGHT
TZNAME:MDT
DTSTART:20240310T020000
TZOFFSETFROM:-0700
TZOFFSETTO:-0600
RDATE:20250309T020000
RDATE:20260308T020000
END:DAYLIGHT
END:VTIMEZONE
BEGIN:VEVENT
UID:ebb32d94-b527-4be5-a5ee-9d3ac2a5f3e4
DTSTAMP:20260421T224412Z
DESCRIPTION:
DTSTART;TZID=America/Denver:20241008T160000
DTEND;TZID=America/Denver:20241008T170000
LOCATION:225 N Gate Blvd\, Colorado Springs\, CO 80921 US
SUMMARY:Lecture Series: Mel McFarland\, 'Colorado Springs: A Look Back'
END:VEVENT
END:VCALENDAR
