BEGIN:VCALENDAR
VERSION:2.0
PRODID:-//wmmi.org//NONSGML kigkonsult.se iCalcreator 2.30.10//
CALSCALE:GREGORIAN
METHOD:PUBLISH
UID:f0a95c01-4cdd-4c6c-9236-e32d4baf22fb
X-WR-CALDESC:
X-WR-RELCALID:ec3e700be426b85835c8c2d805b96dad
X-WR-TIMEZONE:America/Denver
BEGIN:VTIMEZONE
TZID:America/Denver
BEGIN:STANDARD
TZNAME:MST
DTSTART:20231105T020000
TZOFFSETFROM:-0600
TZOFFSETTO:-0700
RDATE:20241103T020000
RDATE:20251102T020000
END:STANDARD
BEGIN:DAYLIGHT
TZNAME:MDT
DTSTART:20240310T020000
TZOFFSETFROM:-0700
TZOFFSETTO:-0600
RDATE:20250309T020000
RDATE:20260308T020000
END:DAYLIGHT
END:VTIMEZONE
BEGIN:VEVENT
UID:399a6c20-1969-4af7-b552-212ffb502875
DTSTAMP:20260421T223851Z
DESCRIPTION:
DTSTART;TZID=America/Denver:20241005T090000
DTEND;TZID=America/Denver:20241005T160000
LOCATION:225 N Gate Blvd\, Colorado Springs\, CO 80921 US
SUMMARY:Miners' Pumpkin Patch
END:VEVENT
END:VCALENDAR
