BEGIN:VCALENDAR
VERSION:2.0
PRODID:-//wmmi.org//NONSGML kigkonsult.se iCalcreator 2.30.10//
CALSCALE:GREGORIAN
METHOD:PUBLISH
UID:a9a2ec47-0b46-4bcd-bfbd-7e338de4e93c
X-WR-CALDESC:
X-WR-RELCALID:ce44e6b7c12c0bfb39c2076f279c0190
X-WR-TIMEZONE:America/Denver
BEGIN:VTIMEZONE
TZID:America/Denver
BEGIN:STANDARD
TZNAME:MST
DTSTART:20231105T020000
TZOFFSETFROM:-0600
TZOFFSETTO:-0700
RDATE:20241103T020000
RDATE:20251102T020000
END:STANDARD
BEGIN:DAYLIGHT
TZNAME:MDT
DTSTART:20240310T020000
TZOFFSETFROM:-0700
TZOFFSETTO:-0600
RDATE:20250309T020000
RDATE:20260308T020000
END:DAYLIGHT
END:VTIMEZONE
BEGIN:VEVENT
UID:f686b345-8989-4ff4-913c-deaa6e19a167
DTSTAMP:20260421T215325Z
DESCRIPTION:
DTSTART;TZID=America/Denver:20240910T160000
DTEND;TZID=America/Denver:20240910T170000
LOCATION:225 N Gate Blvd\, Colorado Springs\, CO 80921 US
SUMMARY:Lecture Series: Susan Judy\, 'Exhibit Opening Artist Talk'
END:VEVENT
END:VCALENDAR
