BEGIN:VCALENDAR
VERSION:2.0
PRODID:-//wmmi.org//NONSGML kigkonsult.se iCalcreator 2.30.10//
CALSCALE:GREGORIAN
METHOD:PUBLISH
UID:265e6c0d-1c44-4072-a52a-33e3180f1c73
X-WR-CALDESC:
X-WR-RELCALID:059022440778287b356937b8af5184c4
X-WR-TIMEZONE:America/Denver
BEGIN:VTIMEZONE
TZID:America/Denver
BEGIN:STANDARD
TZNAME:MST
DTSTART:20231105T020000
TZOFFSETFROM:-0600
TZOFFSETTO:-0700
RDATE:20241103T020000
RDATE:20251102T020000
END:STANDARD
BEGIN:DAYLIGHT
TZNAME:MDT
DTSTART:20240310T020000
TZOFFSETFROM:-0700
TZOFFSETTO:-0600
RDATE:20250309T020000
END:DAYLIGHT
END:VTIMEZONE
BEGIN:VEVENT
UID:3ceace15-4038-4077-b8bc-f38eeb97797a
DTSTAMP:20260421T194405Z
DESCRIPTION:
DTSTART;TZID=America/Denver:20240813T160000
DTEND;TZID=America/Denver:20240813T170000
LOCATION:225 N Gate Blvd\, Colorado Springs\, CO 80921 US
SUMMARY:Lecture Series: Jim Crompton\, 'Digital Mining'
END:VEVENT
END:VCALENDAR
