BEGIN:VCALENDAR
VERSION:2.0
PRODID:-//wmmi.org//NONSGML kigkonsult.se iCalcreator 2.30.10//
CALSCALE:GREGORIAN
METHOD:PUBLISH
UID:e912c6cf-1fed-4a88-aa7c-940ce531599e
X-WR-CALDESC:
X-WR-RELCALID:784758b2bacccf2aa74499cdc1d95826
X-WR-TIMEZONE:America/Denver
BEGIN:VTIMEZONE
TZID:America/Denver
BEGIN:STANDARD
TZNAME:MST
DTSTART:20231105T020000
TZOFFSETFROM:-0600
TZOFFSETTO:-0700
RDATE:20241103T020000
RDATE:20251102T020000
END:STANDARD
BEGIN:DAYLIGHT
TZNAME:MDT
DTSTART:20240310T020000
TZOFFSETFROM:-0700
TZOFFSETTO:-0600
RDATE:20250309T020000
END:DAYLIGHT
END:VTIMEZONE
BEGIN:VEVENT
UID:11403056-8566-428a-96b3-a9b7942d2b68
DTSTAMP:20260421T183341Z
DESCRIPTION:
DTSTART;TZID=America/Denver:20240727T100000
DTEND;TZID=America/Denver:20240727T150000
LOCATION:225 N Gate Blvd\, Colorado Springs\, CO 80921 US
SUMMARY:Family Day Industry
END:VEVENT
END:VCALENDAR
