BEGIN:VCALENDAR
VERSION:2.0
PRODID:-//wmmi.org//NONSGML kigkonsult.se iCalcreator 2.30.10//
CALSCALE:GREGORIAN
METHOD:PUBLISH
UID:043b3042-8035-43dc-986f-b3e32460be0a
X-WR-CALDESC:
X-WR-RELCALID:cc053e0b832971466ae689626e5d5005
X-WR-TIMEZONE:America/Denver
BEGIN:VTIMEZONE
TZID:America/Denver
BEGIN:STANDARD
TZNAME:MST
DTSTART:20231105T020000
TZOFFSETFROM:-0600
TZOFFSETTO:-0700
RDATE:20241103T020000
RDATE:20251102T020000
END:STANDARD
BEGIN:DAYLIGHT
TZNAME:MDT
DTSTART:20240310T020000
TZOFFSETFROM:-0700
TZOFFSETTO:-0600
RDATE:20250309T020000
END:DAYLIGHT
END:VTIMEZONE
BEGIN:VEVENT
UID:e37d116c-0c2b-4436-8a06-06e85a96fa15
DTSTAMP:20260421T180621Z
DESCRIPTION:
DTSTART;TZID=America/Denver:20240715T040000
DTEND;TZID=America/Denver:20240719T040001
LOCATION:225 N Gate Blvd\, Colorado Springs\, CO 80921 US
SUMMARY:July STEAM Camp
END:VEVENT
END:VCALENDAR
