BEGIN:VCALENDAR
VERSION:2.0
PRODID:-//wmmi.org//NONSGML kigkonsult.se iCalcreator 2.30.10//
CALSCALE:GREGORIAN
METHOD:PUBLISH
UID:521e5a8c-92c4-497a-acbb-43029a80664b
X-WR-CALDESC:
X-WR-RELCALID:e173897c0df47bb26e8bd2f34040258b
X-WR-TIMEZONE:America/Denver
BEGIN:VTIMEZONE
TZID:America/Denver
BEGIN:STANDARD
TZNAME:MST
DTSTART:20231105T020000
TZOFFSETFROM:-0600
TZOFFSETTO:-0700
RDATE:20241103T020000
RDATE:20251102T020000
END:STANDARD
BEGIN:DAYLIGHT
TZNAME:MDT
DTSTART:20240310T020000
TZOFFSETFROM:-0700
TZOFFSETTO:-0600
RDATE:20250309T020000
END:DAYLIGHT
END:VTIMEZONE
BEGIN:VEVENT
UID:296f0515-e2c7-4666-b062-4027e339355d
DTSTAMP:20260421T182524Z
DESCRIPTION:
DTSTART;TZID=America/Denver:20240709T160000
DTEND;TZID=America/Denver:20240709T170000
LOCATION:225 N Gate Blvd\, Colorado Springs\, CO 80921 US
SUMMARY:Lecture Series: Mike Torreano\, 'The Code of the West'
END:VEVENT
END:VCALENDAR
