BEGIN:VCALENDAR
VERSION:2.0
PRODID:-//wmmi.org//NONSGML kigkonsult.se iCalcreator 2.30.10//
CALSCALE:GREGORIAN
METHOD:PUBLISH
UID:73e59ae6-40d4-4438-8d6e-2d697150b276
X-WR-CALDESC:
X-WR-RELCALID:2792e89506718fde2cc5c26c8ad1bd6f
X-WR-TIMEZONE:America/Denver
BEGIN:VTIMEZONE
TZID:America/Denver
BEGIN:STANDARD
TZNAME:MST
DTSTART:20231105T020000
TZOFFSETFROM:-0600
TZOFFSETTO:-0700
RDATE:20241103T020000
RDATE:20251102T020000
END:STANDARD
BEGIN:DAYLIGHT
TZNAME:MDT
DTSTART:20240310T020000
TZOFFSETFROM:-0700
TZOFFSETTO:-0600
RDATE:20250309T020000
END:DAYLIGHT
END:VTIMEZONE
BEGIN:VEVENT
UID:492775bf-f7ea-4deb-b69e-dcc930114d8f
DTSTAMP:20260421T165429Z
DESCRIPTION:
DTSTART;TZID=America/Denver:20240629T100000
DTEND;TZID=America/Denver:20240629T150000
LOCATION:225 N Gate Blvd\, Colorado Springs\, CO 80921 US
SUMMARY:Family Day Science
END:VEVENT
END:VCALENDAR
