BEGIN:VCALENDAR
VERSION:2.0
PRODID:-//wmmi.org//NONSGML kigkonsult.se iCalcreator 2.30.10//
CALSCALE:GREGORIAN
METHOD:PUBLISH
UID:5b6aca35-1531-48f7-a873-b1ed54c3528b
X-WR-CALDESC:
X-WR-RELCALID:293330580eb9a9472d6b227b25784c18
X-WR-TIMEZONE:America/Denver
BEGIN:VTIMEZONE
TZID:America/Denver
BEGIN:STANDARD
TZNAME:MST
DTSTART:20231105T020000
TZOFFSETFROM:-0600
TZOFFSETTO:-0700
RDATE:20241103T020000
RDATE:20251102T020000
END:STANDARD
BEGIN:DAYLIGHT
TZNAME:MDT
DTSTART:20240310T020000
TZOFFSETFROM:-0700
TZOFFSETTO:-0600
RDATE:20250309T020000
END:DAYLIGHT
END:VTIMEZONE
BEGIN:VEVENT
UID:11247294-59c6-4032-bdc4-48969485f5e2
DTSTAMP:20260421T163832Z
DESCRIPTION:
DTSTART;TZID=America/Denver:20240624T040000
DTEND;TZID=America/Denver:20240628T040001
LOCATION:225 N Gate Blvd\, Colorado Springs\, CO 80921 US
SUMMARY:June STEAM Camp
END:VEVENT
END:VCALENDAR
