BEGIN:VCALENDAR
VERSION:2.0
PRODID:-//wmmi.org//NONSGML kigkonsult.se iCalcreator 2.30.10//
CALSCALE:GREGORIAN
METHOD:PUBLISH
UID:b5b05ea5-af27-465c-9fa2-aa6932534fc8
X-WR-CALDESC:
X-WR-RELCALID:c2b4aee9ea61e44c413518295556ce02
X-WR-TIMEZONE:America/Denver
BEGIN:VTIMEZONE
TZID:America/Denver
BEGIN:STANDARD
TZNAME:MST
DTSTART:20231105T020000
TZOFFSETFROM:-0600
TZOFFSETTO:-0700
RDATE:20241103T020000
RDATE:20251102T020000
END:STANDARD
BEGIN:DAYLIGHT
TZNAME:MDT
DTSTART:20240310T020000
TZOFFSETFROM:-0700
TZOFFSETTO:-0600
RDATE:20250309T020000
END:DAYLIGHT
END:VTIMEZONE
BEGIN:VEVENT
UID:690b8adf-6985-424d-967b-c36cd23ead9d
DTSTAMP:20260421T151609Z
DESCRIPTION:
DTSTART;TZID=America/Denver:20240530T040000
DTEND;TZID=America/Denver:20240530T040001
LOCATION:225 N Gate Blvd\, Colorado Springs\, AL 80921 US
SUMMARY:Picnic & Planes
END:VEVENT
END:VCALENDAR
