BEGIN:VCALENDAR
VERSION:2.0
PRODID:-//wmmi.org//NONSGML kigkonsult.se iCalcreator 2.30.10//
CALSCALE:GREGORIAN
METHOD:PUBLISH
UID:274c3c7f-8067-45c0-a219-5307abde398a
X-WR-CALDESC:
X-WR-RELCALID:86fa266d4d31224cda9c85a0fa819666
X-WR-TIMEZONE:America/Denver
BEGIN:VTIMEZONE
TZID:America/Denver
BEGIN:STANDARD
TZNAME:MST
DTSTART:20231105T020000
TZOFFSETFROM:-0600
TZOFFSETTO:-0700
RDATE:20241103T020000
RDATE:20251102T020000
END:STANDARD
BEGIN:DAYLIGHT
TZNAME:MDT
DTSTART:20240310T020000
TZOFFSETFROM:-0700
TZOFFSETTO:-0600
RDATE:20250309T020000
END:DAYLIGHT
END:VTIMEZONE
BEGIN:VEVENT
UID:1c732a53-f0aa-4a65-8157-5c1cfdb0e8fa
DTSTAMP:20260421T151935Z
DESCRIPTION:
DTSTART;TZID=America/Denver:20240518T100000
DTEND;TZID=America/Denver:20240518T150000
LOCATION:225 N Gate Blvd\, Colorado Springs\, CO 80921 US
SUMMARY:Family Day History
END:VEVENT
END:VCALENDAR
