BEGIN:VCALENDAR
VERSION:2.0
PRODID:-//wmmi.org//NONSGML kigkonsult.se iCalcreator 2.30.10//
CALSCALE:GREGORIAN
METHOD:PUBLISH
UID:8a64b50d-4621-4c00-8213-3b7d63103dd6
X-WR-CALDESC:
X-WR-RELCALID:c31ead8a5f1a864be587135ffe633515
X-WR-TIMEZONE:America/Denver
BEGIN:VTIMEZONE
TZID:America/Denver
BEGIN:STANDARD
TZNAME:MST
DTSTART:20231105T020000
TZOFFSETFROM:-0600
TZOFFSETTO:-0700
RDATE:20241103T020000
END:STANDARD
BEGIN:DAYLIGHT
TZNAME:MDT
DTSTART:20240310T020000
TZOFFSETFROM:-0700
TZOFFSETTO:-0600
RDATE:20250309T020000
END:DAYLIGHT
END:VTIMEZONE
BEGIN:VEVENT
UID:e476a3f9-f4ea-4560-b931-564c387bba78
DTSTAMP:20260421T135443Z
DESCRIPTION:
DTSTART;TZID=America/Denver:20240420T100000
DTEND;TZID=America/Denver:20240420T150000
LOCATION:225 N Gate Blvd\, Colorado Springs\, CO 80921 US
SUMMARY:Family Day Art
END:VEVENT
END:VCALENDAR
