BEGIN:VCALENDAR
VERSION:2.0
PRODID:-//wmmi.org//NONSGML kigkonsult.se iCalcreator 2.30.10//
CALSCALE:GREGORIAN
METHOD:PUBLISH
UID:954fed27-befc-4520-bd22-ae75ccfa0f28
X-WR-CALDESC:
X-WR-RELCALID:53c0ad3438ed1eae34215e5af74c7cca
X-WR-TIMEZONE:America/Denver
BEGIN:VTIMEZONE
TZID:America/Denver
BEGIN:STANDARD
TZNAME:MST
DTSTART:20231105T020000
TZOFFSETFROM:-0600
TZOFFSETTO:-0700
RDATE:20241103T020000
END:STANDARD
BEGIN:DAYLIGHT
TZNAME:MDT
DTSTART:20240310T020000
TZOFFSETFROM:-0700
TZOFFSETTO:-0600
RDATE:20250309T020000
END:DAYLIGHT
END:VTIMEZONE
BEGIN:VEVENT
UID:b9d10655-3838-49a8-af36-f84efd7e9fa0
DTSTAMP:20260421T143635Z
DESCRIPTION:
DTSTART;TZID=America/Denver:20240409T160000
DTEND;TZID=America/Denver:20240409T170000
LOCATION:225 N Gate Blvd\, Colorado Springs\, CO 80921 US
SUMMARY:Lecture Series: Gary Horton\, 'The Woods Investment Company' (Cripp
 le Creek)
END:VEVENT
END:VCALENDAR
