BEGIN:VCALENDAR
VERSION:2.0
PRODID:-//wmmi.org//NONSGML kigkonsult.se iCalcreator 2.30.10//
CALSCALE:GREGORIAN
METHOD:PUBLISH
UID:ff034fd2-9c42-4007-b4dd-a5f3bc15317d
X-WR-CALDESC:
X-WR-RELCALID:71135c1d117d7e9d3bc73be3a6ac1767
X-WR-TIMEZONE:America/Chicago
BEGIN:VTIMEZONE
TZID:America/Chicago
BEGIN:STANDARD
TZNAME:CST
DTSTART:20231105T020000
TZOFFSETFROM:-0500
TZOFFSETTO:-0600
RDATE:20241103T020000
END:STANDARD
BEGIN:DAYLIGHT
TZNAME:CDT
DTSTART:20240310T020000
TZOFFSETFROM:-0600
TZOFFSETTO:-0500
RDATE:20250309T020000
END:DAYLIGHT
END:VTIMEZONE
BEGIN:VEVENT
UID:3f3cf4e6-c659-4228-8bca-25e930888d16
DTSTAMP:20260421T123503Z
DESCRIPTION:
DTSTART;TZID=America/Chicago:20240328T090000
DTEND;TZID=America/Chicago:20240328T150000
LOCATION:225 N Gate Blvd. \, Colorado Springs\, CO 80921 US
SUMMARY:Spring Break STEaM Camp
END:VEVENT
END:VCALENDAR
