BEGIN:VCALENDAR
VERSION:2.0
PRODID:-//wmmi.org//NONSGML kigkonsult.se iCalcreator 2.30.10//
CALSCALE:GREGORIAN
METHOD:PUBLISH
UID:06527ca1-8875-441f-9e46-b200507d46b6
X-WR-CALDESC:
X-WR-RELCALID:7e804a8a6242e4c2dcbf65cdd77e3031
X-WR-TIMEZONE:America/Chicago
BEGIN:VTIMEZONE
TZID:America/Chicago
BEGIN:STANDARD
TZNAME:CST
DTSTART:20231105T020000
TZOFFSETFROM:-0500
TZOFFSETTO:-0600
RDATE:20241103T020000
END:STANDARD
BEGIN:DAYLIGHT
TZNAME:CDT
DTSTART:20240310T020000
TZOFFSETFROM:-0600
TZOFFSETTO:-0500
RDATE:20250309T020000
END:DAYLIGHT
END:VTIMEZONE
BEGIN:VEVENT
UID:f16719c6-4c3e-46f6-8203-1eadcfe04913
DTSTAMP:20260421T122342Z
DESCRIPTION:
DTSTART;TZID=America/Chicago:20240326T090000
DTEND;TZID=America/Chicago:20240326T150000
LOCATION:225 N Gate Blvd. \, Colorado Springs\, CO 80921 US
SUMMARY:Spring Break STEaM Camp
END:VEVENT
END:VCALENDAR
