BEGIN:VCALENDAR
VERSION:2.0
PRODID:-//wmmi.org//NONSGML kigkonsult.se iCalcreator 2.30.10//
CALSCALE:GREGORIAN
METHOD:PUBLISH
UID:9c50a114-fa7e-4ad8-a32e-282e8628767d
X-WR-CALDESC:
X-WR-RELCALID:707c20956d14bb4308e34a297b7a33d7
X-WR-TIMEZONE:America/Denver
BEGIN:VTIMEZONE
TZID:America/Denver
BEGIN:STANDARD
TZNAME:MST
DTSTART:20231105T020000
TZOFFSETFROM:-0600
TZOFFSETTO:-0700
RDATE:20241103T020000
END:STANDARD
BEGIN:DAYLIGHT
TZNAME:MDT
DTSTART:20240310T020000
TZOFFSETFROM:-0700
TZOFFSETTO:-0600
RDATE:20250309T020000
END:DAYLIGHT
END:VTIMEZONE
BEGIN:VEVENT
UID:552f9614-5e8f-49cd-824b-071d2912fe6b
DTSTAMP:20260421T122154Z
DESCRIPTION:
DTSTART;TZID=America/Denver:20240325T040000
DTEND;TZID=America/Denver:20240330T040001
LOCATION:225 N Gate Blvd\, Colorado Springs\, CO 80921 US
SUMMARY:Easter Egg Scavenger Hunt
END:VEVENT
END:VCALENDAR
