BEGIN:VCALENDAR
VERSION:2.0
PRODID:-//wmmi.org//NONSGML kigkonsult.se iCalcreator 2.30.10//
CALSCALE:GREGORIAN
METHOD:PUBLISH
UID:06d8b6e1-dc6b-47e3-8d5a-8a5ce710bacc
X-WR-CALDESC:
X-WR-RELCALID:4e338cd7a6ae2b78b62c0db52c5f49dd
X-WR-TIMEZONE:America/Denver
BEGIN:VTIMEZONE
TZID:America/Denver
BEGIN:STANDARD
TZNAME:MST
DTSTART:20231105T020000
TZOFFSETFROM:-0600
TZOFFSETTO:-0700
RDATE:20241103T020000
END:STANDARD
BEGIN:DAYLIGHT
TZNAME:MDT
DTSTART:20240310T020000
TZOFFSETFROM:-0700
TZOFFSETTO:-0600
RDATE:20250309T020000
END:DAYLIGHT
END:VTIMEZONE
BEGIN:VEVENT
UID:3c891323-1940-43dc-86d6-59c9e9d4ec2d
DTSTAMP:20260421T122326Z
DESCRIPTION:
DTSTART;TZID=America/Denver:20240323T100000
DTEND;TZID=America/Denver:20240323T150000
LOCATION:225 N Gate Blvd\, Colorado Springs\, CO 80921 US
SUMMARY:Family Day Mining
END:VEVENT
END:VCALENDAR
