BEGIN:VCALENDAR
VERSION:2.0
PRODID:-//wmmi.org//NONSGML kigkonsult.se iCalcreator 2.30.10//
CALSCALE:GREGORIAN
METHOD:PUBLISH
UID:971e261e-a017-4438-9d37-e1e7cad62af0
X-WR-CALDESC:
X-WR-RELCALID:4e86ca3e3f59992bbabf89fa1107b43b
X-WR-TIMEZONE:America/Denver
BEGIN:VTIMEZONE
TZID:America/Denver
BEGIN:STANDARD
TZNAME:MST
DTSTART:20231105T020000
TZOFFSETFROM:-0600
TZOFFSETTO:-0700
RDATE:20241103T020000
END:STANDARD
BEGIN:DAYLIGHT
TZNAME:MDT
DTSTART:20240310T020000
TZOFFSETFROM:-0700
TZOFFSETTO:-0600
RDATE:20250309T020000
END:DAYLIGHT
END:VTIMEZONE
BEGIN:VEVENT
UID:723fb4af-394d-426d-aae7-12a1a3eb92b6
DTSTAMP:20260421T123939Z
DESCRIPTION:
DTSTART;TZID=America/Denver:20240312T160000
DTEND;TZID=America/Denver:20240312T170000
LOCATION:225 N Gate Blvd\, Colorado Springs\, CO 80921 US
SUMMARY:Lecture: Lecture: Leah Davis Witherow\, 'General William Jackson Pa
 lmer'
END:VEVENT
END:VCALENDAR
