BEGIN:VCALENDAR
VERSION:2.0
PRODID:-//wmmi.org//NONSGML kigkonsult.se iCalcreator 2.30.10//
CALSCALE:GREGORIAN
METHOD:PUBLISH
UID:23a29147-4309-402e-949e-7483cb6280cd
X-WR-CALDESC:
X-WR-RELCALID:fbd0dfa1bf7ccd5053bb0456526955d4
X-WR-TIMEZONE:America/Chicago
BEGIN:VTIMEZONE
TZID:America/Chicago
BEGIN:STANDARD
TZNAME:CST
DTSTART:20221106T020000
TZOFFSETFROM:-0500
TZOFFSETTO:-0600
RDATE:20231105T020000
RDATE:20241103T020000
END:STANDARD
BEGIN:DAYLIGHT
TZNAME:CDT
DTSTART:20230312T020000
TZOFFSETFROM:-0600
TZOFFSETTO:-0500
RDATE:20240310T020000
END:DAYLIGHT
END:VTIMEZONE
BEGIN:VEVENT
UID:d87b5e05-f8f2-48d1-8547-fab5c3be61ae
DTSTAMP:20260421T081855Z
DESCRIPTION:
DTSTART;TZID=America/Chicago:20230812T100000
DTEND;TZID=America/Chicago:20230812T150000
LOCATION:
SUMMARY:Family Day: HISTORY
END:VEVENT
END:VCALENDAR
