BEGIN:VCALENDAR
VERSION:2.0
PRODID:-//wmmi.org//NONSGML kigkonsult.se iCalcreator 2.30.10//
CALSCALE:GREGORIAN
METHOD:PUBLISH
UID:126089b6-7708-48b6-ac5f-268b185d2964
X-WR-CALDESC:It's fun to learn when the learning is fun!  STEaM CAMP is des
 igned for grades 3\, 4\, 5 with hands on activities\, experiments and more
 . \nSpace is limited\, reserve your spot now!
X-WR-RELCALID:a83e277ea5fc5023eecccdcbc5812cf9
X-WR-TIMEZONE:America/Denver
BEGIN:VTIMEZONE
TZID:America/Denver
BEGIN:STANDARD
TZNAME:MST
DTSTART:20221106T020000
TZOFFSETFROM:-0600
TZOFFSETTO:-0700
RDATE:20231105T020000
RDATE:20241103T020000
END:STANDARD
BEGIN:DAYLIGHT
TZNAME:MDT
DTSTART:20230312T020000
TZOFFSETFROM:-0700
TZOFFSETTO:-0600
RDATE:20240310T020000
END:DAYLIGHT
END:VTIMEZONE
BEGIN:VEVENT
UID:65136cd6-1211-40e6-8f0d-6017501d1726
DTSTAMP:20260421T094959Z
DESCRIPTION:It's fun to learn when the learning is fun!  STEaM CAMP is desi
 gned for grades 3\, 4\, 5 with hands on activities\, experiments and more.
  \nSpace is limited\, reserve your spot now!
DTSTART;TZID=America/Denver:20230721T090000
DTEND;TZID=America/Denver:20230721T150000
LOCATION:225 North Gate Blvd\, colorado springs\, CO 80921 US
SUMMARY:Summer STEaM CAMP #2
END:VEVENT
END:VCALENDAR
