BEGIN:VCALENDAR
VERSION:2.0
PRODID:-//wmmi.org//NONSGML kigkonsult.se iCalcreator 2.30.10//
CALSCALE:GREGORIAN
METHOD:PUBLISH
UID:484ae03b-b809-4cb7-a0b4-28cb0042a52c
X-WR-CALDESC:It's fun to learn when the learning is fun!  STEaM CAMP is des
 igned for grades 3\, 4\, 5 with hands on activities\, experiments and more
 . \nSpace is limited\, reserve your spot now!
X-WR-RELCALID:0994954f6060f20015a1fa361e03afd0
X-WR-TIMEZONE:America/Denver
BEGIN:VTIMEZONE
TZID:America/Denver
BEGIN:STANDARD
TZNAME:MST
DTSTART:20221106T020000
TZOFFSETFROM:-0600
TZOFFSETTO:-0700
RDATE:20231105T020000
RDATE:20241103T020000
END:STANDARD
BEGIN:DAYLIGHT
TZNAME:MDT
DTSTART:20230312T020000
TZOFFSETFROM:-0700
TZOFFSETTO:-0600
RDATE:20240310T020000
END:DAYLIGHT
END:VTIMEZONE
BEGIN:VEVENT
UID:b1b5584b-ec9b-492d-9233-b738a66ff348
DTSTAMP:20260423T102414Z
DESCRIPTION:It's fun to learn when the learning is fun!  STEaM CAMP is desi
 gned for grades 3\, 4\, 5 with hands on activities\, experiments and more.
  \nSpace is limited\, reserve your spot now!
DTSTART;TZID=America/Denver:20230719T090000
DTEND;TZID=America/Denver:20230719T150000
LOCATION:225 North Gate Blvd\, colorado springs\, CO 80921 US
SUMMARY:Summer STEaM CAMP #2
END:VEVENT
END:VCALENDAR
