BEGIN:VCALENDAR
VERSION:2.0
PRODID:-//wmmi.org//NONSGML kigkonsult.se iCalcreator 2.30.10//
CALSCALE:GREGORIAN
METHOD:PUBLISH
UID:7e864628-fc51-46c9-b509-c130723f7592
X-WR-CALDESC:
X-WR-RELCALID:84fdbcedd6c20174a3b6811f232fc476
X-WR-TIMEZONE:America/Denver
BEGIN:VTIMEZONE
TZID:America/Denver
BEGIN:STANDARD
TZNAME:MST
DTSTART:20221106T020000
TZOFFSETFROM:-0600
TZOFFSETTO:-0700
RDATE:20231105T020000
RDATE:20241103T020000
END:STANDARD
BEGIN:DAYLIGHT
TZNAME:MDT
DTSTART:20230312T020000
TZOFFSETFROM:-0700
TZOFFSETTO:-0600
RDATE:20240310T020000
END:DAYLIGHT
END:VTIMEZONE
BEGIN:VEVENT
UID:14c875fa-e9ea-46d9-8653-87080b52314c
DTSTAMP:20260421T080228Z
DESCRIPTION:
DTSTART;TZID=America/Denver:20230717T093000
DTEND;TZID=America/Denver:20230717T103000
LOCATION:225 North Gate Blvd\, colorado springs\, CO 80921 US
SUMMARY:PPLD Storytime and Bookmobile
END:VEVENT
END:VCALENDAR
