BEGIN:VCALENDAR
VERSION:2.0
PRODID:-//wmmi.org//NONSGML kigkonsult.se iCalcreator 2.30.10//
CALSCALE:GREGORIAN
METHOD:PUBLISH
UID:26293ff2-3ab4-4a61-85f8-fd25bcf9f82e
X-WR-CALDESC:
X-WR-RELCALID:5649c5aeff803d68a4dce6395c5d52de
X-WR-TIMEZONE:America/Denver
BEGIN:VTIMEZONE
TZID:America/Denver
BEGIN:STANDARD
TZNAME:MST
DTSTART:20221106T020000
TZOFFSETFROM:-0600
TZOFFSETTO:-0700
RDATE:20231105T020000
RDATE:20241103T020000
END:STANDARD
BEGIN:DAYLIGHT
TZNAME:MDT
DTSTART:20230312T020000
TZOFFSETFROM:-0700
TZOFFSETTO:-0600
RDATE:20240310T020000
END:DAYLIGHT
END:VTIMEZONE
BEGIN:VEVENT
UID:9da03ca2-0541-4f5c-867f-8ac0eb50b21e
DTSTAMP:20260421T081110Z
DESCRIPTION:
DTSTART;TZID=America/Denver:20230711T160000
DTEND;TZID=America/Denver:20230711T170000
LOCATION:
SUMMARY:Lecture Series: Andrea Malcomb 'Molly Brown & Family'
END:VEVENT
END:VCALENDAR
