BEGIN:VCALENDAR
VERSION:2.0
PRODID:-//wmmi.org//NONSGML kigkonsult.se iCalcreator 2.30.10//
CALSCALE:GREGORIAN
METHOD:PUBLISH
UID:0367dffd-1c53-4278-83be-9acb8a7181fb
X-WR-CALDESC:
X-WR-RELCALID:d1a2885df47957defd7d4d5c797d1b1a
X-WR-TIMEZONE:America/Denver
BEGIN:VTIMEZONE
TZID:America/Denver
BEGIN:STANDARD
TZNAME:MST
DTSTART:20221106T020000
TZOFFSETFROM:-0600
TZOFFSETTO:-0700
RDATE:20231105T020000
RDATE:20241103T020000
END:STANDARD
BEGIN:DAYLIGHT
TZNAME:MDT
DTSTART:20230312T020000
TZOFFSETFROM:-0700
TZOFFSETTO:-0600
RDATE:20240310T020000
END:DAYLIGHT
END:VTIMEZONE
BEGIN:VEVENT
UID:a1df6c30-19c0-4761-9160-a95ea53a0a12
DTSTAMP:20260421T092647Z
DESCRIPTION:
DTSTART;TZID=America/Denver:20230710T093000
DTEND;TZID=America/Denver:20230710T103000
LOCATION:225 North Gate Blvd\, colorado springs\, CO 80921 US
SUMMARY:PPLD Storytime and Bookmobile
END:VEVENT
END:VCALENDAR
