BEGIN:VCALENDAR
VERSION:2.0
PRODID:-//wmmi.org//NONSGML kigkonsult.se iCalcreator 2.30.10//
CALSCALE:GREGORIAN
METHOD:PUBLISH
UID:1bff2112-bd8a-4018-bb94-5a998504f498
X-WR-CALDESC:
X-WR-RELCALID:108903a26413b1261d692893443fe408
X-WR-TIMEZONE:America/Denver
BEGIN:VTIMEZONE
TZID:America/Denver
BEGIN:STANDARD
TZNAME:MST
DTSTART:20221106T020000
TZOFFSETFROM:-0600
TZOFFSETTO:-0700
RDATE:20231105T020000
RDATE:20241103T020000
END:STANDARD
BEGIN:DAYLIGHT
TZNAME:MDT
DTSTART:20230312T020000
TZOFFSETFROM:-0700
TZOFFSETTO:-0600
RDATE:20240310T020000
END:DAYLIGHT
END:VTIMEZONE
BEGIN:VEVENT
UID:96792067-6217-4e10-8640-ce94c90da7d3
DTSTAMP:20260421T095222Z
DESCRIPTION:
DTSTART;TZID=America/Denver:20230622T090000
DTEND;TZID=America/Denver:20230622T150000
LOCATION:225 North Gate Blvd\, colorado springs\, CO 80921 US
SUMMARY:Summer STEaM CAMP #1
END:VEVENT
END:VCALENDAR
