BEGIN:VCALENDAR
VERSION:2.0
PRODID:-//wmmi.org//NONSGML kigkonsult.se iCalcreator 2.30.10//
CALSCALE:GREGORIAN
METHOD:PUBLISH
UID:3842c458-f46a-4e3d-97d4-62d9b62e9e17
X-WR-CALDESC:
X-WR-RELCALID:397a4e5df3dd811b22662aab426376c6
X-WR-TIMEZONE:America/Denver
BEGIN:VTIMEZONE
TZID:America/Denver
BEGIN:STANDARD
TZNAME:MST
DTSTART:20221106T020000
TZOFFSETFROM:-0600
TZOFFSETTO:-0700
RDATE:20231105T020000
RDATE:20241103T020000
END:STANDARD
BEGIN:DAYLIGHT
TZNAME:MDT
DTSTART:20230312T020000
TZOFFSETFROM:-0700
TZOFFSETTO:-0600
RDATE:20240310T020000
END:DAYLIGHT
END:VTIMEZONE
BEGIN:VEVENT
UID:0e7891e7-7463-4dbf-90f8-05fe4546b9e8
DTSTAMP:20260421T095236Z
DESCRIPTION:
DTSTART;TZID=America/Denver:20230620T090000
DTEND;TZID=America/Denver:20230620T150000
LOCATION:225 North Gate Blvd\, colorado springs\, CO 80921 US
SUMMARY:Summer STEaM CAMP #1
END:VEVENT
END:VCALENDAR
