BEGIN:VCALENDAR
VERSION:2.0
PRODID:-//wmmi.org//NONSGML kigkonsult.se iCalcreator 2.30.10//
CALSCALE:GREGORIAN
METHOD:PUBLISH
UID:c9a883c7-7c4d-44b2-abde-0567e5747040
X-WR-CALDESC:It's time for the annual Celtic Festival!  Tickets are availab
 le on line ONLY.  This is a community event taking place on the WMMI campu
 s\, please contact them for information.
X-WR-RELCALID:a542ee3f0d0244209b6504a196897172
X-WR-TIMEZONE:America/Denver
BEGIN:VTIMEZONE
TZID:America/Denver
BEGIN:STANDARD
TZNAME:MST
DTSTART:20221106T020000
TZOFFSETFROM:-0600
TZOFFSETTO:-0700
RDATE:20231105T020000
RDATE:20241103T020000
END:STANDARD
BEGIN:DAYLIGHT
TZNAME:MDT
DTSTART:20230312T020000
TZOFFSETFROM:-0700
TZOFFSETTO:-0600
RDATE:20240310T020000
END:DAYLIGHT
END:VTIMEZONE
BEGIN:VEVENT
UID:db535cc7-c1d4-4be0-9649-ad022ac101e6
DTSTAMP:20260423T102012Z
DESCRIPTION:It's time for the annual Celtic Festival!  Tickets are availabl
 e on line ONLY.  This is a community event taking place on the WMMI campus
 \, please contact them for information.
DTSTART;TZID=America/Denver:20230617T000000
DTEND;TZID=America/Denver:20230617T235900
LOCATION:225 North Gate Blvd\, colorado springs\, CO 80921 US
SUMMARY:Celtic Festival
END:VEVENT
END:VCALENDAR
