BEGIN:VCALENDAR
VERSION:2.0
PRODID:-//wmmi.org//NONSGML kigkonsult.se iCalcreator 2.30.10//
CALSCALE:GREGORIAN
METHOD:PUBLISH
UID:ca96e3dd-ff8a-4f1b-bec5-47b0f48d83e7
X-WR-CALDESC:Community event held here on the WMMI campus.  Please contact 
 their organizing committee for questions.  Tickets on sale ON LINE only. (
 link is below)
X-WR-RELCALID:5d3e70d33441bb6a36135346676dd63d
X-WR-TIMEZONE:America/Denver
BEGIN:VTIMEZONE
TZID:America/Denver
BEGIN:STANDARD
TZNAME:MST
DTSTART:20221106T020000
TZOFFSETFROM:-0600
TZOFFSETTO:-0700
RDATE:20231105T020000
RDATE:20241103T020000
END:STANDARD
BEGIN:DAYLIGHT
TZNAME:MDT
DTSTART:20230312T020000
TZOFFSETFROM:-0700
TZOFFSETTO:-0600
RDATE:20240310T020000
END:DAYLIGHT
END:VTIMEZONE
BEGIN:VEVENT
UID:4cea4a5a-94f9-4b5f-8c1e-8b276edf1958
DTSTAMP:20260421T093034Z
DESCRIPTION:Community event held here on the WMMI campus.  Please contact t
 heir organizing committee for questions.  Tickets on sale ON LINE only. (l
 ink is below)
DTSTART;TZID=America/Denver:20230616T000000
DTEND;TZID=America/Denver:20230616T235900
LOCATION:
SUMMARY:Celtic Festival
END:VEVENT
END:VCALENDAR
