BEGIN:VCALENDAR
VERSION:2.0
PRODID:-//wmmi.org//NONSGML kigkonsult.se iCalcreator 2.30.10//
CALSCALE:GREGORIAN
METHOD:PUBLISH
UID:079fbc55-5204-4831-ad4c-2eed93e507f8
X-WR-CALDESC:
X-WR-RELCALID:ddb5d3c198e43ebee4e0b3d2ac9c5af7
X-WR-TIMEZONE:America/Denver
BEGIN:VTIMEZONE
TZID:America/Denver
BEGIN:STANDARD
TZNAME:MST
DTSTART:20221106T020000
TZOFFSETFROM:-0600
TZOFFSETTO:-0700
RDATE:20231105T020000
RDATE:20241103T020000
END:STANDARD
BEGIN:DAYLIGHT
TZNAME:MDT
DTSTART:20230312T020000
TZOFFSETFROM:-0700
TZOFFSETTO:-0600
RDATE:20240310T020000
END:DAYLIGHT
END:VTIMEZONE
BEGIN:VEVENT
UID:23edf9cf-d5ba-4db8-879c-2b42a61b7c81
DTSTAMP:20260421T082414Z
DESCRIPTION:
DTSTART;TZID=America/Denver:20230613T160000
DTEND;TZID=America/Denver:20230613T170000
LOCATION:
SUMMARY:Lecture Series: George Papic  'Cripple Creek and Victor'
END:VEVENT
END:VCALENDAR
