BEGIN:VCALENDAR
VERSION:2.0
PRODID:-//wmmi.org//NONSGML kigkonsult.se iCalcreator 2.30.10//
CALSCALE:GREGORIAN
METHOD:PUBLISH
UID:549475c2-c6ca-49e3-b716-3a0783a720c1
X-WR-CALDESC:Community event on the WMMI campus. Family friendly music\, fo
 od and fun to help NephCure.
X-WR-RELCALID:5b2505d88a279d97af8f946c844b6032
X-WR-TIMEZONE:America/Denver
BEGIN:VTIMEZONE
TZID:America/Denver
BEGIN:STANDARD
TZNAME:MST
DTSTART:20221106T020000
TZOFFSETFROM:-0600
TZOFFSETTO:-0700
RDATE:20231105T020000
RDATE:20241103T020000
END:STANDARD
BEGIN:DAYLIGHT
TZNAME:MDT
DTSTART:20230312T020000
TZOFFSETFROM:-0700
TZOFFSETTO:-0600
RDATE:20240310T020000
END:DAYLIGHT
END:VTIMEZONE
BEGIN:VEVENT
UID:3100c81d-1e12-4a56-98fb-ff0f085d80fb
DTSTAMP:20260421T092926Z
DESCRIPTION:Community event on the WMMI campus. Family friendly music\, foo
 d and fun to help NephCure.
DTSTART;TZID=America/Denver:20230610T000000
DTEND;TZID=America/Denver:20230610T235900
LOCATION:225 North Gate Blvd\, colorado springs\, CO 80921 US
SUMMARY:Rocky Mountain Pig NephCureJig Fundraising Event
END:VEVENT
END:VCALENDAR
