BEGIN:VCALENDAR
VERSION:2.0
PRODID:-//wmmi.org//NONSGML kigkonsult.se iCalcreator 2.30.10//
CALSCALE:GREGORIAN
METHOD:PUBLISH
UID:db647a65-a368-40bd-9544-826b5c4205ca
X-WR-CALDESC:
X-WR-RELCALID:b21028fc5d5fa32793da81042de3f1da
X-WR-TIMEZONE:America/Denver
BEGIN:VTIMEZONE
TZID:America/Denver
BEGIN:STANDARD
TZNAME:MST
DTSTART:20221106T020000
TZOFFSETFROM:-0600
TZOFFSETTO:-0700
RDATE:20231105T020000
RDATE:20241103T020000
END:STANDARD
BEGIN:DAYLIGHT
TZNAME:MDT
DTSTART:20230312T020000
TZOFFSETFROM:-0700
TZOFFSETTO:-0600
RDATE:20240310T020000
END:DAYLIGHT
END:VTIMEZONE
BEGIN:VEVENT
UID:241937ec-1444-42a5-8db2-8f43355865df
DTSTAMP:20260421T095256Z
DESCRIPTION:
DTSTART;TZID=America/Denver:20230605T093000
DTEND;TZID=America/Denver:20230605T103000
LOCATION:225 North Gate Blvd\, colorado springs\, CO 80921 US
SUMMARY:PPLD Storytime and Bookmobile
END:VEVENT
END:VCALENDAR
