BEGIN:VCALENDAR
VERSION:2.0
PRODID:-//wmmi.org//NONSGML kigkonsult.se iCalcreator 2.30.10//
CALSCALE:GREGORIAN
METHOD:PUBLISH
UID:4a16f127-9d21-4990-b4ce-1a643e6b33cd
X-WR-CALDESC:We love Summer!  Come see the outdoor machinery demonstrations
 \, the Blacksmith Shop\, Hayrides...and our famous Yellow Jacket II STAMP 
 MILL in operation.  $5.00 per car.
X-WR-RELCALID:4b82adbc418e31498154bbf0a7c9c1da
X-WR-TIMEZONE:America/Denver
BEGIN:VTIMEZONE
TZID:America/Denver
BEGIN:STANDARD
TZNAME:MST
DTSTART:20221106T020000
TZOFFSETFROM:-0600
TZOFFSETTO:-0700
RDATE:20231105T020000
RDATE:20241103T020000
END:STANDARD
BEGIN:DAYLIGHT
TZNAME:MDT
DTSTART:20230312T020000
TZOFFSETFROM:-0700
TZOFFSETTO:-0600
RDATE:20240310T020000
END:DAYLIGHT
END:VTIMEZONE
BEGIN:VEVENT
UID:d4cf843f-9183-4e85-bfc8-7e9fa5472514
DTSTAMP:20260421T095101Z
DESCRIPTION:We love Summer!  Come see the outdoor machinery demonstrations\
 , the Blacksmith Shop\, Hayrides...and our famous Yellow Jacket II STAMP M
 ILL in operation.  $5.00 per car.
DTSTART;TZID=America/Denver:20230603T100000
DTEND;TZID=America/Denver:20230603T140000
LOCATION:225 North Gate Blvd\, colorado springs\, CO 80921 US
SUMMARY:Outdoor Machinery Demonstration Day!
END:VEVENT
END:VCALENDAR
