BEGIN:VCALENDAR
VERSION:2.0
PRODID:-//wmmi.org//NONSGML kigkonsult.se iCalcreator 2.30.10//
CALSCALE:GREGORIAN
METHOD:PUBLISH
UID:a0e60e5f-bd32-4fd2-9cad-9779d785a451
X-WR-CALDESC:save the date for our first FAMILY DAY of the 2023 year.  Grea
 t demonstrations\, exhibits and activities.
X-WR-RELCALID:da282052f3dcf504db50cf73a55459f5
X-WR-TIMEZONE:America/Denver
BEGIN:VTIMEZONE
TZID:America/Denver
BEGIN:STANDARD
TZNAME:MST
DTSTART:20221106T020000
TZOFFSETFROM:-0600
TZOFFSETTO:-0700
RDATE:20231105T020000
RDATE:20241103T020000
END:STANDARD
BEGIN:DAYLIGHT
TZNAME:MDT
DTSTART:20230312T020000
TZOFFSETFROM:-0700
TZOFFSETTO:-0600
RDATE:20240310T020000
END:DAYLIGHT
END:VTIMEZONE
BEGIN:VEVENT
UID:dd9c04e3-1a44-4b2e-9bd7-e732564b2ceb
DTSTAMP:20260421T092106Z
DESCRIPTION:save the date for our first FAMILY DAY of the 2023 year.  Great
  demonstrations\, exhibits and activities.
DTSTART;TZID=America/Denver:20230513T100000
DTEND;TZID=America/Denver:20230513T140000
LOCATION:
SUMMARY:Family Day - SCIENCE
END:VEVENT
END:VCALENDAR
