BEGIN:VCALENDAR
VERSION:2.0
PRODID:-//wmmi.org//NONSGML kigkonsult.se iCalcreator 2.30.10//
CALSCALE:GREGORIAN
METHOD:PUBLISH
UID:99976175-4b9d-4137-b8d5-1a0576bb42a1
X-WR-CALDESC:
X-WR-RELCALID:7cc38f1fff58f2bee88b7584197bba0a
X-WR-TIMEZONE:America/Denver
BEGIN:VTIMEZONE
TZID:America/Denver
BEGIN:STANDARD
TZNAME:MST
DTSTART:20221106T020000
TZOFFSETFROM:-0600
TZOFFSETTO:-0700
RDATE:20231105T020000
RDATE:20241103T020000
END:STANDARD
BEGIN:DAYLIGHT
TZNAME:MDT
DTSTART:20230312T020000
TZOFFSETFROM:-0700
TZOFFSETTO:-0600
RDATE:20240310T020000
END:DAYLIGHT
END:VTIMEZONE
BEGIN:VEVENT
UID:3b0ff1df-5304-4250-82b5-c2e7aae4b8fe
DTSTAMP:20260421T100004Z
DESCRIPTION:
DTSTART;TZID=America/Denver:20230509T160000
DTEND;TZID=America/Denver:20230509T170000
LOCATION:
SUMMARY:Speakers Bureau Lecture Series: Tim Jones\, Easy Hikes to the Hidde
 n Past
END:VEVENT
END:VCALENDAR
