BEGIN:VCALENDAR
VERSION:2.0
PRODID:-//wmmi.org//NONSGML kigkonsult.se iCalcreator 2.30.10//
CALSCALE:GREGORIAN
METHOD:PUBLISH
UID:6b52b923-90e8-4dac-a310-4d2225d1e464
X-WR-CALDESC:Make sure to register for this Final Homeschool Days class of 
 the Spring Semester.  Learn about MapTek modeling.  STEaM education at its
  finest! call 719-488-0880 or register here.
X-WR-RELCALID:7e28c70cbdc20e0ed5f36430dc79a436
X-WR-TIMEZONE:America/Denver
BEGIN:VTIMEZONE
TZID:America/Denver
BEGIN:STANDARD
TZNAME:MST
DTSTART:20221106T020000
TZOFFSETFROM:-0600
TZOFFSETTO:-0700
RDATE:20231105T020000
END:STANDARD
BEGIN:DAYLIGHT
TZNAME:MDT
DTSTART:20230312T020000
TZOFFSETFROM:-0700
TZOFFSETTO:-0600
RDATE:20240310T020000
END:DAYLIGHT
END:VTIMEZONE
BEGIN:VEVENT
UID:f9089b1a-726e-446e-80b9-e2c80f103630
DTSTAMP:20260421T111633Z
DESCRIPTION:Make sure to register for this Final Homeschool Days class of t
 he Spring Semester.  Learn about MapTek modeling.  STEaM education at its 
 finest! call 719-488-0880 or register here.
DTSTART;TZID=America/Denver:20230412T123000
DTEND;TZID=America/Denver:20230412T153000
LOCATION:225 North Gate Blvd\, colorado springs\, CO 80921 US
SUMMARY:Homeschool Days
END:VEVENT
END:VCALENDAR
