BEGIN:VCALENDAR
VERSION:2.0
PRODID:-//wmmi.org//NONSGML kigkonsult.se iCalcreator 2.30.10//
CALSCALE:GREGORIAN
METHOD:PUBLISH
UID:bf616bde-7852-4dc2-830a-be6a37d9e425
X-WR-CALDESC:
X-WR-RELCALID:0dc3c266dfb210d901eeb537225c8eda
X-WR-TIMEZONE:America/Denver
BEGIN:VTIMEZONE
TZID:America/Denver
BEGIN:STANDARD
TZNAME:MST
DTSTART:20221106T020000
TZOFFSETFROM:-0600
TZOFFSETTO:-0700
RDATE:20231105T020000
END:STANDARD
BEGIN:DAYLIGHT
TZNAME:MDT
DTSTART:20230312T020000
TZOFFSETFROM:-0700
TZOFFSETTO:-0600
RDATE:20240310T020000
END:DAYLIGHT
END:VTIMEZONE
BEGIN:VEVENT
UID:1a4c3173-230a-43a3-a557-0867c12969f5
DTSTAMP:20260421T111908Z
DESCRIPTION:
DTSTART;TZID=America/Denver:20230411T160000
DTEND;TZID=America/Denver:20230411T170000
LOCATION:225 North Gate Blvd\, colorado springs\, CO 80921 US
SUMMARY:Speakers Bureau Lecture Series
END:VEVENT
END:VCALENDAR
