BEGIN:VCALENDAR
VERSION:2.0
PRODID:-//wmmi.org//NONSGML kigkonsult.se iCalcreator 2.30.10//
CALSCALE:GREGORIAN
METHOD:PUBLISH
UID:05218698-2aaa-4bf0-a904-b14ac8a8cc18
X-WR-CALDESC:Join us for an 'Eye Spy' style Egg Hunt.  Wander through the m
 useum\, locate the 'eggs' in various spots.  Turn in your sheet for a priz
 e!
X-WR-RELCALID:4e1e2b4c9cb462a71156fba183fc65ce
X-WR-TIMEZONE:America/Denver
BEGIN:VTIMEZONE
TZID:America/Denver
BEGIN:STANDARD
TZNAME:MST
DTSTART:20221106T020000
TZOFFSETFROM:-0600
TZOFFSETTO:-0700
RDATE:20231105T020000
END:STANDARD
BEGIN:DAYLIGHT
TZNAME:MDT
DTSTART:20230312T020000
TZOFFSETFROM:-0700
TZOFFSETTO:-0600
RDATE:20240310T020000
END:DAYLIGHT
END:VTIMEZONE
BEGIN:VEVENT
UID:156ab361-b388-4deb-ba0e-c17fd9e11c79
DTSTAMP:20260421T110329Z
DESCRIPTION:Join us for an 'Eye Spy' style Egg Hunt.  Wander through the mu
 seum\, locate the 'eggs' in various spots.  Turn in your sheet for a prize
 !
DTSTART;TZID=America/Denver:20230407T090000
DTEND;TZID=America/Denver:20230407T160000
LOCATION:225 North Gate Blvd\, colorado springs\, CO 80921 US
SUMMARY:EASTER EGG HUNT!!
END:VEVENT
END:VCALENDAR
