BEGIN:VCALENDAR
VERSION:2.0
PRODID:-//wmmi.org//NONSGML kigkonsult.se iCalcreator 2.30.10//
CALSCALE:GREGORIAN
METHOD:PUBLISH
UID:41b87098-7626-47db-9a23-364c24e4908b
X-WR-CALDESC:Join us for an 'Eye Spy' style Egg Hunt.  Wander through the m
 useum\, locate the 'eggs' in various spots.  Turn in your sheet for a priz
 e!
X-WR-RELCALID:67c91039bf35af3de1e545f64624dcc5
X-WR-TIMEZONE:America/Denver
BEGIN:VTIMEZONE
TZID:America/Denver
BEGIN:STANDARD
TZNAME:MST
DTSTART:20221106T020000
TZOFFSETFROM:-0600
TZOFFSETTO:-0700
RDATE:20231105T020000
END:STANDARD
BEGIN:DAYLIGHT
TZNAME:MDT
DTSTART:20230312T020000
TZOFFSETFROM:-0700
TZOFFSETTO:-0600
RDATE:20240310T020000
END:DAYLIGHT
END:VTIMEZONE
BEGIN:VEVENT
UID:2e32c069-e7b3-4c44-9acf-b8c29d81658b
DTSTAMP:20260421T110322Z
DESCRIPTION:Join us for an 'Eye Spy' style Egg Hunt.  Wander through the mu
 seum\, locate the 'eggs' in various spots.  Turn in your sheet for a prize
 !
DTSTART;TZID=America/Denver:20230406T090000
DTEND;TZID=America/Denver:20230406T160000
LOCATION:225 North Gate Blvd\, colorado springs\, CO 80921 US
SUMMARY:EASTER EGG HUNT!!
END:VEVENT
END:VCALENDAR
