BEGIN:VCALENDAR
VERSION:2.0
PRODID:-//wmmi.org//NONSGML kigkonsult.se iCalcreator 2.30.10//
CALSCALE:GREGORIAN
METHOD:PUBLISH
UID:6c000980-febb-4cee-a226-f5cd42e0e2d6
X-WR-CALDESC:Join us for an 'Eye Spy' style Egg Hunt.  Wander through the m
 useum\, locate the 'eggs' in various spots.  Turn in your sheet for a priz
 e!
X-WR-RELCALID:15d00c5f7dc8e5b8f5870d088104c83b
X-WR-TIMEZONE:America/Denver
BEGIN:VTIMEZONE
TZID:America/Denver
BEGIN:STANDARD
TZNAME:MST
DTSTART:20221106T020000
TZOFFSETFROM:-0600
TZOFFSETTO:-0700
RDATE:20231105T020000
END:STANDARD
BEGIN:DAYLIGHT
TZNAME:MDT
DTSTART:20230312T020000
TZOFFSETFROM:-0700
TZOFFSETTO:-0600
RDATE:20240310T020000
END:DAYLIGHT
END:VTIMEZONE
BEGIN:VEVENT
UID:b0591ea8-61d3-4fb9-be06-8fb1ad3d6c6f
DTSTAMP:20260421T112001Z
DESCRIPTION:Join us for an 'Eye Spy' style Egg Hunt.  Wander through the mu
 seum\, locate the 'eggs' in various spots.  Turn in your sheet for a prize
 !
DTSTART;TZID=America/Denver:20230405T090000
DTEND;TZID=America/Denver:20230405T160000
LOCATION:225 North Gate Blvd\, colorado springs\, CO 80921 US
SUMMARY:EASTER EGG HUNT!!
END:VEVENT
END:VCALENDAR
