BEGIN:VCALENDAR
VERSION:2.0
PRODID:-//wmmi.org//NONSGML kigkonsult.se iCalcreator 2.30.10//
CALSCALE:GREGORIAN
METHOD:PUBLISH
UID:48b27541-81d1-4c66-aa1d-f97985fdc4b0
X-WR-CALDESC:Join us for an 'Eye Spy' style Egg Hunt.  Wander through the m
 useum\, locate the 'eggs' in various spots.  Turn in your sheet for a priz
 e!
X-WR-RELCALID:b63815e78256c4b89e62050870048c22
X-WR-TIMEZONE:America/Denver
BEGIN:VTIMEZONE
TZID:America/Denver
BEGIN:STANDARD
TZNAME:MST
DTSTART:20221106T020000
TZOFFSETFROM:-0600
TZOFFSETTO:-0700
RDATE:20231105T020000
END:STANDARD
BEGIN:DAYLIGHT
TZNAME:MDT
DTSTART:20230312T020000
TZOFFSETFROM:-0700
TZOFFSETTO:-0600
RDATE:20240310T020000
END:DAYLIGHT
END:VTIMEZONE
BEGIN:VEVENT
UID:555f3845-beb9-4e96-bf10-b3b901040c2e
DTSTAMP:20260421T111416Z
DESCRIPTION:Join us for an 'Eye Spy' style Egg Hunt.  Wander through the mu
 seum\, locate the 'eggs' in various spots.  Turn in your sheet for a prize
 !
DTSTART;TZID=America/Denver:20230402T090000
DTEND;TZID=America/Denver:20230402T160000
LOCATION:225 North Gate Blvd\, colorado springs\, CO 80921 US
SUMMARY:EASTER EGG HUNT!!
END:VEVENT
END:VCALENDAR
